BEGIN:VCALENDAR
VERSION:2.0
PRODID:-//IMO Romania - ECPv6.15.20//NONSGML v1.0//EN
CALSCALE:GREGORIAN
METHOD:PUBLISH
X-ORIGINAL-URL:https://het-imo.net/ro
X-WR-CALDESC:Events for IMO Romania
REFRESH-INTERVAL;VALUE=DURATION:PT1H
X-Robots-Tag:noindex
X-PUBLISHED-TTL:PT1H
BEGIN:VTIMEZONE
TZID:Europe/Bucharest
BEGIN:DAYLIGHT
TZOFFSETFROM:+0200
TZOFFSETTO:+0300
TZNAME:EEST
DTSTART:20220327T010000
END:DAYLIGHT
BEGIN:STANDARD
TZOFFSETFROM:+0300
TZOFFSETTO:+0200
TZNAME:EET
DTSTART:20221030T010000
END:STANDARD
BEGIN:DAYLIGHT
TZOFFSETFROM:+0200
TZOFFSETTO:+0300
TZNAME:EEST
DTSTART:20230326T010000
END:DAYLIGHT
BEGIN:STANDARD
TZOFFSETFROM:+0300
TZOFFSETTO:+0200
TZNAME:EET
DTSTART:20231029T010000
END:STANDARD
BEGIN:DAYLIGHT
TZOFFSETFROM:+0200
TZOFFSETTO:+0300
TZNAME:EEST
DTSTART:20240331T010000
END:DAYLIGHT
BEGIN:STANDARD
TZOFFSETFROM:+0300
TZOFFSETTO:+0200
TZNAME:EET
DTSTART:20241027T010000
END:STANDARD
BEGIN:DAYLIGHT
TZOFFSETFROM:+0200
TZOFFSETTO:+0300
TZNAME:EEST
DTSTART:20250330T010000
END:DAYLIGHT
BEGIN:STANDARD
TZOFFSETFROM:+0300
TZOFFSETTO:+0200
TZNAME:EET
DTSTART:20251026T010000
END:STANDARD
END:VTIMEZONE
BEGIN:VEVENT
DTSTART;TZID=Europe/Bucharest:20240912T100000
DTEND;TZID=Europe/Bucharest:20240912T170000
DTSTAMP:20260420T002934
CREATED:20240708T060228Z
LAST-MODIFIED:20240831T140849Z
UID:941-1726135200-1726160400@het-imo.net
SUMMARY:Cum iei decizii strategice în momente critice?
DESCRIPTION:Te confrunți cu o situații dificile care iți cer să iei decizii strategice rapide? Simți presiunea timpului și a rezultatelor care te copleșește? \nLa acest eveniment vei primi: \nUn instrument practic: Vei primi un instrument ușor de utilizat\, dar puternic\, conceput pentru a te ghida în luarea de decizii cu o viziune strategică.Aplicare directă: Vei învăța cum să folosești instrumentul în practică\, aplicându-l la o decizie reală cu care te confrunți în prezent.O consultație gratuită: Vei primi o consultație gratuită pentru a te ajuta să implementezi instrumentul în organizația ta. \nDe ce este important acest eveniment? \nEvitarea eșecului: Vei învăța cum să identifici punctul de plecare corect și să implici oamenii în procesul strategic\, eliminând riscurile majore.Luarea deciziilor strategice: Vei descoperi cum poți să analizezi contextul\, să identifici oportunitățile și să elaborezi planuri strategice clare și eficiente.Gestionarea presiunii: Vei învăța cum să iei decizii sub presiune și să rămâi calm în situații critice. \nAcest eveniment este pentru tine dacă: \n\nEști antreprenor sau manager care dorește să ia decizii strategice mai bune\nEști un profesionist care dorește să își îmbunătățească abilitățile de luare a deciziilor\nEști un lider de echipă care dorește mai multă implicare și eficiență în luarea de decizii\nSau pur și simplu ești un om care dorește să afle mai multe despre cum să iei decizii în situații critice\n\nPreț: 750 lei (include TVA)  \n\n50% reducere dacă te înscrii până pe 20.08.2024\, inclusiv\, și plătești până pe 26.08.2024\n10% reducere dacă vii împreună cu un coleg sau o colegă din aceeași organizație\n20% reducere dacă veniți 3 sau mai mulți colegi din aceeași organizație\n\nReducerile nu se cumulează! \nAccesează linkul pentru înscriere: Cum iei decizii strategice în momente critice? \nLocuri limitate!Rezervă-ți locul acum!Nu rata șansa de a descoperi un instrument simplu și eficient pentru a lua decizii strategice sănătoase pe termen lung\, chiar dacă ești sub presiunea timpului și a rezultatelor. \nContact:office@het-imo.net \nTeodora Varvare: 0727227749
URL:https://het-imo.net/ro/event/cum-iei-decizii-strategice-in-momente-critice/
LOCATION:Impact Hub\, Str. Tudor Arghezi 8-10\, București
CATEGORIES:Ateliere generale
ATTACH;FMTTYPE=image/jpeg:https://het-imo.net/ro/wp-content/uploads/2024/07/businessman-holding-hour-glass-signifies-importance-being-time-scaled.jpg
ORGANIZER;CN="IMO Rom%C3%A2nia":MAILTO:office@het-imo.net
END:VEVENT
BEGIN:VEVENT
DTSTART;TZID=Europe/Bucharest:20240801T100000
DTEND;TZID=Europe/Bucharest:20240801T170000
DTSTAMP:20260420T002934
CREATED:20240707T063646Z
LAST-MODIFIED:20240802T070854Z
UID:906-1722506400-1722531600@het-imo.net
SUMMARY:Cum iei decizii strategice în momente critice?
DESCRIPTION:Te confrunți cu o situații dificile care iți cer să iei decizii strategice rapide? Simți presiunea timpului și a rezultatelor care te copleșește? \nLa acest eveniment vei primi: \nUn instrument practic: Vei primi un instrument ușor de utilizat\, dar puternic\, conceput pentru a te ghida în luarea de decizii cu o viziune strategică.Aplicare directă: Vei învăța cum să folosești instrumentul în practică\, aplicându-l la o decizie reală cu care te confrunți în prezent.O consultație gratuită: Vei primi o consultație gratuită pentru a te ajuta să implementezi instrumentul în organizația ta. \nDe ce este important acest eveniment? \nEvitarea eșecului: Vei învăța cum să identifici punctul de plecare corect și să implici oamenii în procesul strategic\, eliminând riscurile majore.Luarea deciziilor strategice: Vei descoperi cum poți să analizezi contextul\, să identifici oportunitățile și să elaborezi planuri strategice clare și eficiente.Gestionarea presiunii: Vei învăța cum să iei decizii sub presiune și să rămâi calm în situații critice. \nAcest eveniment este pentru tine dacă: \n\nEști antreprenor sau manager care dorește să ia decizii strategice mai bune\nEști un profesionist care dorește să își îmbunătățească abilitățile de luare a deciziilor\nEști un lider de echipă care dorește mai multă implicare și eficiență în luarea de decizii\nSau pur și simplu ești un om care dorește să afle mai multe despre cum să iei decizii în situații critice\n\nPreț: 750 lei (include TVA)  \n\n10% reducere dacă vii împreună cu un coleg sau o colegă din aceeași organizație\n20% reducere dacă veniți 3 sau mai mulți colegi din aceeași organizație\n\nReducerile nu se cumulează! \nAccesează linkul pentru înscriere: Cum iei decizii strategice în momente critice? \nLocuri limitate!Rezervă-ți locul acum!Nu rata șansa de a descoperi un instrument simplu și eficient pentru a lua decizii strategice sănătoase pe termen lung\, chiar dacă ești sub presiunea timpului și a rezultatelor. \nContact:office@het-imo.net \nTeodora Varvare: 0727227749
URL:https://het-imo.net/ro/event/workshop-august/
LOCATION:Impact Hub\, Str. Tudor Arghezi 8-10\, București
CATEGORIES:Ateliere generale
ATTACH;FMTTYPE=image/jpeg:https://het-imo.net/ro/wp-content/uploads/2024/07/business-man-working-office-desktop-scaled.jpg
ORGANIZER;CN="IMO Rom%C3%A2nia":MAILTO:office@het-imo.net
END:VEVENT
BEGIN:VEVENT
DTSTART;TZID=Europe/Bucharest:20230318T170000
DTEND;TZID=Europe/Bucharest:20230318T183000
DTSTAMP:20260420T002934
CREATED:20230308T100121Z
LAST-MODIFIED:20230308T184917Z
UID:227-1679158800-1679164200@het-imo.net
SUMMARY:Cum să-mi fie bine la locul de muncă?
DESCRIPTION:Tu cum te simți la locul de muncă? Hai la acest workshop în care vei descoperi o modalitate practică pentru îmbunătățirea propriei experiențe la job. Vom pleca de la situația concretă\, conștientizând rezultatul dorit și identificând posibilități reale de schimbare.\n\n\nInstitutul de Dezvoltare Umana și Organizațională (IMO Romania) este o comunitate internațională formată din consultanți independenți care dezvoltă împreună cu clienții lor procese de leadership orizontal\, punând omul și potențialul său în centrul proceselor de lucru din organizații.\n\n\n\nTeodora Varvare este co-fondator IMO Romania și consultant de dezvoltare organizațională și de leadership. În munca de consultant pleacă de la imaginea tripartită a ființei umane: o ființă cu gândire\, simțire și voință.\n\n\n\nRocsana Nica este co-fondator IMO Romania și consultant în procese de leadership orizontal pentru dezvoltare individuală și organizațională. Activitatea sa profesională este orientată către creșterea calității interacțiunii dintre oameni și a implicării cu sens în procesele de muncă.\n\n\n\nTe așteptăm la COSMIC Beauty & Wellness Festival\, pe 18-19 martie\, la GHICA House\, UNIVERSITATE să experimentezi workshopul de leadership orizontal IMO.
URL:https://het-imo.net/ro/event/cum-sa-mi-fie-bine-la-locul-de-munca/
LOCATION:Offline\, GHICA House\, UNIVERSITATE\, București\, Romania
CATEGORIES:Ateliere generale
ATTACH;FMTTYPE=image/png:https://het-imo.net/ro/wp-content/uploads/2023/03/Cosmic.png
END:VEVENT
BEGIN:VEVENT
DTSTART;TZID=Europe/Bucharest:20230302T183000
DTEND;TZID=Europe/Bucharest:20230302T203000
DTSTAMP:20260420T002934
CREATED:20230228T122650Z
LAST-MODIFIED:20230228T122650Z
UID:224-1677781800-1677789000@het-imo.net
SUMMARY:Horizontal Leadership workshop
DESCRIPTION:Tu in ce fel de organizatie vrei sa lucrezi? Cum dai sens muncii tale?\n\n\nTe invitam joi\, 2 martie\, ora 18:30\, la un atelier online\, care te va purta de la nivelul conceptual la cel aplicat al Leadership-ului Orizontal. Atelierul va contine o parte de prezentare a conceptelor si una practica in care fiecare va lucra cu o situatie concreta din realitatea sa prezenta.\n\n\nDaca te afli in cautarea unui mod nou de a da sens muncii tale si de a crea o experienta de lucru diferita in contexul in care activezi\, vei vedea beneficiile participarii la acest atelier prin:\n– Clarificarea unei initiative proprii\n– Practica dialogului de leadership orizontal\n– Dobandirea perspectivei aplicate a organizatiilor integrate\n\n\nVei afla:\n– Notiuni de baza ale leadership-ului orizontal si cum sustine acesta viata unei organizatii\n– Ce se creaza in cadrul organizatiilor care integreaza dimensiunea verticala cu cea orizontala\n– In ce mod se manifesta aceasta integrare la nivel individual si de echipa\n\n\nVei practica in cadrul atelierului:\n– Descrierea si clarificarea unei initiative in contextul organizatiei\n– Integrarea unei perspective exterioare prin dialog\n– Identificarea rolului si responsabilitatii si definirea urmatorului pas concret\n– Ascultarea activa dintr-o perspectiva diferita\n– Sumarizarea si esentializarea ca si competente practice\n\n\nAtelierul se va desfasura online si va avea o durata de 2 ore.\nCostul de participare este 250 de lei.\nPentru inscrieri si alte solicitari te rugam sa ne scrii la adresa de email office@het-imo.net.\n\n\nTe asteptam cu drag!
URL:https://het-imo.net/ro/event/horizontal-leadership-workshop/
CATEGORIES:Ateliere generale
ATTACH;FMTTYPE=image/jpeg:https://het-imo.net/ro/wp-content/uploads/2023/02/HL-IMO.jpg
END:VEVENT
END:VCALENDAR